BEGIN:VCALENDAR
VERSION:2.0
PRODID:-//hacksw/handcal//NONSGML v1.0//EN
BEGIN:VEVENT
SUMMARY:Convocation championnat U15 D1 c/Ent. Haroue/Tantonville
UID:9369e935-d7db-4481-802f-d44387814788
DTSTART:20260314T134500Z
DTEND:20260314T163000Z
LOCATION:Localisation   
CATEGORIES:Sportif
STATUS:
DESCRIPTION:Rdv 14h45 aux anciens vestiaires, coup d'envoi
 16h. <div>Terrain Synthetique. </div><div>Chaussettes de matchs,
 proteges-tibias et affaires de douche OBLIGATOIRE !!! </div>
URL;VALUE=URI:https://www.fcdombasle.org/evenements/2026/03/14/convocation-championnat-u15-d1-cent-harouetantonville-2427023
END:VEVENT
END:VCALENDAR
