BEGIN:VCALENDAR
VERSION:2.0
PRODID:-//hacksw/handcal//NONSGML v1.0//EN
BEGIN:VEVENT
SUMMARY:Specifique gardien U18 - Senior
UID:e89cd9ac-8667-4ae6-ba78-0ef960029747
DTSTART:20260421T171500Z
DTEND:20260421T190000Z
LOCATION:Localisation   
CATEGORIES:Entrainement
STATUS:
DESCRIPTION:Specifique gardiens U18 Senior
URL;VALUE=URI:https://www.fcdombasle.org/evenements/2026/04/21/specifique-gardien-u18-senior-2443475
END:VEVENT
END:VCALENDAR
